BEGIN:VCALENDAR
VERSION:2.0
PRODID:-//www.nauka.czd.pl - ECPv6.15.19//NONSGML v1.0//EN
CALSCALE:GREGORIAN
METHOD:PUBLISH
X-ORIGINAL-URL:https://nauka.czd.pl
X-WR-CALDESC:Wydarzenia dla www.nauka.czd.pl
REFRESH-INTERVAL;VALUE=DURATION:PT1H
X-Robots-Tag:noindex
X-PUBLISHED-TTL:PT1H
BEGIN:VTIMEZONE
TZID:Europe/Warsaw
BEGIN:DAYLIGHT
TZOFFSETFROM:+0100
TZOFFSETTO:+0200
TZNAME:CEST
DTSTART:20250330T010000
END:DAYLIGHT
BEGIN:STANDARD
TZOFFSETFROM:+0200
TZOFFSETTO:+0100
TZNAME:CET
DTSTART:20251026T010000
END:STANDARD
BEGIN:DAYLIGHT
TZOFFSETFROM:+0100
TZOFFSETTO:+0200
TZNAME:CEST
DTSTART:20260329T010000
END:DAYLIGHT
BEGIN:STANDARD
TZOFFSETFROM:+0200
TZOFFSETTO:+0100
TZNAME:CET
DTSTART:20261025T010000
END:STANDARD
BEGIN:DAYLIGHT
TZOFFSETFROM:+0100
TZOFFSETTO:+0200
TZNAME:CEST
DTSTART:20270328T010000
END:DAYLIGHT
BEGIN:STANDARD
TZOFFSETFROM:+0200
TZOFFSETTO:+0100
TZNAME:CET
DTSTART:20271031T010000
END:STANDARD
END:VTIMEZONE
BEGIN:VEVENT
DTSTART;VALUE=DATE:20260529
DTEND;VALUE=DATE:20260531
DTSTAMP:20260422T150758
CREATED:20260415T081339Z
LAST-MODIFIED:20260415T081346Z
UID:19044-1780012800-1780185599@nauka.czd.pl
SUMMARY:„CDG w CZD – II Zjazd Pacjentów z Wrodzonymi Zaburzeniami Glikozylacji i Konferencja Naukowa”
DESCRIPTION:
URL:https://nauka.czd.pl/event/cdg-w-czd-ii-zjazd-pacjentow-z-wrodzonymi-zaburzeniami-glikozylacji-i-konferencja-naukowa/
CATEGORIES:Events,PL
ATTACH;FMTTYPE=image/png:https://nauka.czd.pl/wp-content/uploads/2026/04/CDG_w_CZD.png
ORGANIZER;CN="Klinika Pediatrii%2C %C5%BBywienia i Chor%C3%B3b Metabolicznych IPCZD":MAILTO:oddzial.pediatria@ipczd.pl
END:VEVENT
END:VCALENDAR