BEGIN:VCALENDAR
VERSION:2.0
PRODID:-//www.nauka.czd.pl - ECPv6.15.19//NONSGML v1.0//EN
CALSCALE:GREGORIAN
METHOD:PUBLISH
X-WR-CALNAME:www.nauka.czd.pl
X-ORIGINAL-URL:https://nauka.czd.pl
X-WR-CALDESC:Wydarzenia dla www.nauka.czd.pl
REFRESH-INTERVAL;VALUE=DURATION:PT1H
X-Robots-Tag:noindex
X-PUBLISHED-TTL:PT1H
BEGIN:VTIMEZONE
TZID:Europe/Warsaw
BEGIN:DAYLIGHT
TZOFFSETFROM:+0100
TZOFFSETTO:+0200
TZNAME:CEST
DTSTART:20250330T010000
END:DAYLIGHT
BEGIN:STANDARD
TZOFFSETFROM:+0200
TZOFFSETTO:+0100
TZNAME:CET
DTSTART:20251026T010000
END:STANDARD
BEGIN:DAYLIGHT
TZOFFSETFROM:+0100
TZOFFSETTO:+0200
TZNAME:CEST
DTSTART:20260329T010000
END:DAYLIGHT
BEGIN:STANDARD
TZOFFSETFROM:+0200
TZOFFSETTO:+0100
TZNAME:CET
DTSTART:20261025T010000
END:STANDARD
BEGIN:DAYLIGHT
TZOFFSETFROM:+0100
TZOFFSETTO:+0200
TZNAME:CEST
DTSTART:20270328T010000
END:DAYLIGHT
BEGIN:STANDARD
TZOFFSETFROM:+0200
TZOFFSETTO:+0100
TZNAME:CET
DTSTART:20271031T010000
END:STANDARD
END:VTIMEZONE
BEGIN:VEVENT
DTSTART;TZID=Europe/Warsaw:20260219T100000
DTEND;TZID=Europe/Warsaw:20260219T120000
DTSTAMP:20260422T163108
CREATED:20260210T123542Z
LAST-MODIFIED:20260210T124619Z
UID:18592-1771495200-1771502400@nauka.czd.pl
SUMMARY:Dzień Nauki Polskiej w IPCZD
DESCRIPTION:W ramach obchodów Dnia Nauki Polskiej zapraszamy uczniów szkół licealnych do wzięcia udziału w spotkaniu ze specjalistą\, który opowie o swoim zawodzie. \nJeśli jesteście Państwo zainteresowani udziałem w tym wydarzeniu\, prosimy zgłaszać młodzież grupowo na adres: nauka@ipczd.pl
URL:https://nauka.czd.pl/event/dzien-nauki-polskiej-w-ipczd/
LOCATION:Instytut \,\,Pomnik-Centrum Zdrowia Dziecka”\, Al. Dzieci Polskich 20\, Warszawa\, mazowieckie\, 04-730\, Poland
CATEGORIES:PL
END:VEVENT
END:VCALENDAR