BEGIN:VCALENDAR
VERSION:2.0
PRODID:-//www.nauka.czd.pl - ECPv6.15.19//NONSGML v1.0//EN
CALSCALE:GREGORIAN
METHOD:PUBLISH
X-ORIGINAL-URL:https://nauka.czd.pl
X-WR-CALDESC:Wydarzenia dla www.nauka.czd.pl
REFRESH-INTERVAL;VALUE=DURATION:PT1H
X-Robots-Tag:noindex
X-PUBLISHED-TTL:PT1H
BEGIN:VTIMEZONE
TZID:Europe/Warsaw
BEGIN:DAYLIGHT
TZOFFSETFROM:+0100
TZOFFSETTO:+0200
TZNAME:CEST
DTSTART:20220327T010000
END:DAYLIGHT
BEGIN:STANDARD
TZOFFSETFROM:+0200
TZOFFSETTO:+0100
TZNAME:CET
DTSTART:20221030T010000
END:STANDARD
BEGIN:DAYLIGHT
TZOFFSETFROM:+0100
TZOFFSETTO:+0200
TZNAME:CEST
DTSTART:20230326T010000
END:DAYLIGHT
BEGIN:STANDARD
TZOFFSETFROM:+0200
TZOFFSETTO:+0100
TZNAME:CET
DTSTART:20231029T010000
END:STANDARD
BEGIN:DAYLIGHT
TZOFFSETFROM:+0100
TZOFFSETTO:+0200
TZNAME:CEST
DTSTART:20240331T010000
END:DAYLIGHT
BEGIN:STANDARD
TZOFFSETFROM:+0200
TZOFFSETTO:+0100
TZNAME:CET
DTSTART:20241027T010000
END:STANDARD
END:VTIMEZONE
BEGIN:VEVENT
DTSTART;VALUE=DATE:20231208
DTEND;VALUE=DATE:20231210
DTSTAMP:20260421T102159
CREATED:20231201T094711Z
LAST-MODIFIED:20231201T110931Z
UID:12000-1701993600-1702166399@nauka.czd.pl
SUMMARY:XX Jubileuszowe Sympozjum „Interdyscyplinarne problemy Chirurgii dziecięcej”   X Jubileuszowa Konferencja Naukowo-Szkoleniowa dla Młodych Lekarzy specjalizujących się w Chirurgii Dziecięcej
DESCRIPTION:Informacje o sympozjum 8.12.2023\nKażda sesja składa się z wykładów ekspertów oraz z prezentacji prac zgłoszonych przez uczestników zakwalifikowanych przez Komitet Naukowy z zakresu tematyki poszczególnych sesji.\nZapraszamy do aktywnego udziału w sympozjum\, prezentacji ciekawych doświadczeń i trudnych i\npouczających przypadków. Streszczenia prac prosimy przesyłać na adres: Klinika Chirurgii Dziecięcej i Transplantacji Narządów\, Instytut „Pomnik – Centrum Zdrowia Dziecka”\, al. Dzieci Polskich 20\, 04-730 Warszawa wyłącznie w formie elektronicznej pocztą elektroniczną na adres: p.kalicinski@ipczd.pl lub\nadres sekretariatu Kliniki Chirurgii Dziecięcej i Transplantacji Narządów CZD: oddzial.chirurgia@ipczd.pl \nInformacje o konferencji dla młodych lekarzy 9.12.2023\nKontynuujemy cykl spotkań naukowo-szkoleniowych przewidzianych dla wszystkich młodych lekarzy w trakcie specjalizacji\, w tym przypadku z chirurgii dziecięcej. Spotkania te mają na celu prezentację prac oryginalnych\, prac kazuistycznych\, problemów do dyskusji z zakresu ww specjalności w formie 7– 8 minutowych wystąpień prowadzonych przez młodych lekarzy\, po których będzie miała miejsce dyskusja z udziałem specjalistów. Spotkanie będzie służyć lepszemu przygotowaniu do egzaminów specjalizacyjnych jak również przyszłej samodzielnej pracy klinicznej i naukowej. Wszystkich uczestników konferencji w ramach tej samej opłaty rejestracyjnej zapraszamy do udziału w sympozjum interdyscyplinarnym w dniu 8 grudnia 2023 roku. Zgłaszanie udziału na dwie części sympozjum odbywa się na jednym formularzu.
URL:https://nauka.czd.pl/event/xx-jubileuszowe-sympozjum-interdyscyplinarne-problemy-chirurgii-dzieciecej/
LOCATION:Centrum Konferencyjno-Szkoleniowe Hotel Boss\, ul. Żwanowiecka 20\, Warszawa-Miedzeszyn\, Mazowieckie\, Poland
CATEGORIES:Events,PL
ATTACH;FMTTYPE=image/png:https://nauka.czd.pl/wp-content/uploads/2023/12/Sympozjum-chirurgiczne.png
END:VEVENT
END:VCALENDAR