BEGIN:VCALENDAR
VERSION:2.0
PRODID:-//www.nauka.czd.pl - ECPv6.15.19//NONSGML v1.0//EN
CALSCALE:GREGORIAN
METHOD:PUBLISH
X-WR-CALNAME:www.nauka.czd.pl
X-ORIGINAL-URL:https://nauka.czd.pl
X-WR-CALDESC:Wydarzenia dla www.nauka.czd.pl
REFRESH-INTERVAL;VALUE=DURATION:PT1H
X-Robots-Tag:noindex
X-PUBLISHED-TTL:PT1H
BEGIN:VTIMEZONE
TZID:Europe/Warsaw
BEGIN:DAYLIGHT
TZOFFSETFROM:+0100
TZOFFSETTO:+0200
TZNAME:CEST
DTSTART:20220327T010000
END:DAYLIGHT
BEGIN:STANDARD
TZOFFSETFROM:+0200
TZOFFSETTO:+0100
TZNAME:CET
DTSTART:20221030T010000
END:STANDARD
BEGIN:DAYLIGHT
TZOFFSETFROM:+0100
TZOFFSETTO:+0200
TZNAME:CEST
DTSTART:20230326T010000
END:DAYLIGHT
BEGIN:STANDARD
TZOFFSETFROM:+0200
TZOFFSETTO:+0100
TZNAME:CET
DTSTART:20231029T010000
END:STANDARD
BEGIN:DAYLIGHT
TZOFFSETFROM:+0100
TZOFFSETTO:+0200
TZNAME:CEST
DTSTART:20240331T010000
END:DAYLIGHT
BEGIN:STANDARD
TZOFFSETFROM:+0200
TZOFFSETTO:+0100
TZNAME:CET
DTSTART:20241027T010000
END:STANDARD
END:VTIMEZONE
BEGIN:VEVENT
DTSTART;TZID=Europe/Warsaw:20231027T090000
DTEND;TZID=Europe/Warsaw:20231027T173000
DTSTAMP:20260423T125023
CREATED:20230919T080751Z
LAST-MODIFIED:20230919T080751Z
UID:11708-1698397200-1698427800@nauka.czd.pl
SUMMARY:Pediatric Innovation Day
DESCRIPTION:
URL:https://nauka.czd.pl/event/pediatric-innovation-day/
CATEGORIES:PL
END:VEVENT
END:VCALENDAR