BEGIN:VCALENDAR
VERSION:2.0
PRODID:-//www.nauka.czd.pl - ECPv6.15.19//NONSGML v1.0//EN
CALSCALE:GREGORIAN
METHOD:PUBLISH
X-ORIGINAL-URL:https://nauka.czd.pl
X-WR-CALDESC:Wydarzenia dla www.nauka.czd.pl
REFRESH-INTERVAL;VALUE=DURATION:PT1H
X-Robots-Tag:noindex
X-PUBLISHED-TTL:PT1H
BEGIN:VTIMEZONE
TZID:Europe/Warsaw
BEGIN:DAYLIGHT
TZOFFSETFROM:+0100
TZOFFSETTO:+0200
TZNAME:CEST
DTSTART:20220327T010000
END:DAYLIGHT
BEGIN:STANDARD
TZOFFSETFROM:+0200
TZOFFSETTO:+0100
TZNAME:CET
DTSTART:20221030T010000
END:STANDARD
BEGIN:DAYLIGHT
TZOFFSETFROM:+0100
TZOFFSETTO:+0200
TZNAME:CEST
DTSTART:20230326T010000
END:DAYLIGHT
BEGIN:STANDARD
TZOFFSETFROM:+0200
TZOFFSETTO:+0100
TZNAME:CET
DTSTART:20231029T010000
END:STANDARD
BEGIN:DAYLIGHT
TZOFFSETFROM:+0100
TZOFFSETTO:+0200
TZNAME:CEST
DTSTART:20240331T010000
END:DAYLIGHT
BEGIN:STANDARD
TZOFFSETFROM:+0200
TZOFFSETTO:+0100
TZNAME:CET
DTSTART:20241027T010000
END:STANDARD
END:VTIMEZONE
BEGIN:VEVENT
DTSTART;VALUE=DATE:20230518
DTEND;VALUE=DATE:20230519
DTSTAMP:20260423T194134
CREATED:20230427T111158Z
LAST-MODIFIED:20230427T112116Z
UID:11421-1684368000-1684454399@nauka.czd.pl
SUMMARY:Dzień Badań Klinicznych
DESCRIPTION:Konferencja odbywa się w formie stacjonarnej\nUdział w konferencji jest bezpłatny\nRejestracja uczestnictwa w konferencji jest wymagana.
URL:https://nauka.czd.pl/event/dzien-badan-klinicznych/
LOCATION:Centrum Dydaktyczne Warszawskiego Uniwersytetu Medycznego\, ul. Ks. Trojdena 2a\, Warszawa\, Poland
CATEGORIES:Events,PL
END:VEVENT
END:VCALENDAR