BEGIN:VCALENDAR
VERSION:2.0
PRODID:-//www.nauka.czd.pl - ECPv6.15.19//NONSGML v1.0//EN
CALSCALE:GREGORIAN
METHOD:PUBLISH
X-WR-CALNAME:www.nauka.czd.pl
X-ORIGINAL-URL:https://nauka.czd.pl
X-WR-CALDESC:Wydarzenia dla www.nauka.czd.pl
REFRESH-INTERVAL;VALUE=DURATION:PT1H
X-Robots-Tag:noindex
X-PUBLISHED-TTL:PT1H
BEGIN:VTIMEZONE
TZID:Europe/Warsaw
BEGIN:DAYLIGHT
TZOFFSETFROM:+0100
TZOFFSETTO:+0200
TZNAME:CEST
DTSTART:20220327T010000
END:DAYLIGHT
BEGIN:STANDARD
TZOFFSETFROM:+0200
TZOFFSETTO:+0100
TZNAME:CET
DTSTART:20221030T010000
END:STANDARD
BEGIN:DAYLIGHT
TZOFFSETFROM:+0100
TZOFFSETTO:+0200
TZNAME:CEST
DTSTART:20230326T010000
END:DAYLIGHT
BEGIN:STANDARD
TZOFFSETFROM:+0200
TZOFFSETTO:+0100
TZNAME:CET
DTSTART:20231029T010000
END:STANDARD
BEGIN:DAYLIGHT
TZOFFSETFROM:+0100
TZOFFSETTO:+0200
TZNAME:CEST
DTSTART:20240331T010000
END:DAYLIGHT
BEGIN:STANDARD
TZOFFSETFROM:+0200
TZOFFSETTO:+0100
TZNAME:CET
DTSTART:20241027T010000
END:STANDARD
END:VTIMEZONE
BEGIN:VEVENT
DTSTART;VALUE=DATE:20230112
DTEND;VALUE=DATE:20230414
DTSTAMP:20260423T210642
CREATED:20230117T104407Z
LAST-MODIFIED:20230117T104407Z
UID:11060-1673481600-1681430399@nauka.czd.pl
SUMMARY:Konkursy 2023: NCBR - Klaster 1 - Horyzont Europa - Zdrowie
DESCRIPTION:
URL:https://nauka.czd.pl/event/konkursy-2023-ncbr-klaster-1-horyzont-europa-zdrowie/
CATEGORIES:Events,PL
ORGANIZER;CN="Narodowe Centum Bada%C5%84 i Rozwoju":MAILTO:kpk@ncbr.gov.pl
END:VEVENT
END:VCALENDAR