BEGIN:VCALENDAR
VERSION:2.0
PRODID:-//www.nauka.czd.pl - ECPv6.15.19//NONSGML v1.0//EN
CALSCALE:GREGORIAN
METHOD:PUBLISH
X-WR-CALNAME:www.nauka.czd.pl
X-ORIGINAL-URL:https://nauka.czd.pl
X-WR-CALDESC:Wydarzenia dla www.nauka.czd.pl
REFRESH-INTERVAL;VALUE=DURATION:PT1H
X-Robots-Tag:noindex
X-PUBLISHED-TTL:PT1H
BEGIN:VTIMEZONE
TZID:Europe/Warsaw
BEGIN:DAYLIGHT
TZOFFSETFROM:+0100
TZOFFSETTO:+0200
TZNAME:CEST
DTSTART:20210328T010000
END:DAYLIGHT
BEGIN:STANDARD
TZOFFSETFROM:+0200
TZOFFSETTO:+0100
TZNAME:CET
DTSTART:20211031T010000
END:STANDARD
BEGIN:DAYLIGHT
TZOFFSETFROM:+0100
TZOFFSETTO:+0200
TZNAME:CEST
DTSTART:20220327T010000
END:DAYLIGHT
BEGIN:STANDARD
TZOFFSETFROM:+0200
TZOFFSETTO:+0100
TZNAME:CET
DTSTART:20221030T010000
END:STANDARD
BEGIN:DAYLIGHT
TZOFFSETFROM:+0100
TZOFFSETTO:+0200
TZNAME:CEST
DTSTART:20230326T010000
END:DAYLIGHT
BEGIN:STANDARD
TZOFFSETFROM:+0200
TZOFFSETTO:+0100
TZNAME:CET
DTSTART:20231029T010000
END:STANDARD
END:VTIMEZONE
BEGIN:VEVENT
DTSTART;TZID=Europe/Warsaw:20221007T080000
DTEND;TZID=Europe/Warsaw:20221007T170000
DTSTAMP:20260424T051758
CREATED:20240122T132900Z
LAST-MODIFIED:20240122T132902Z
UID:12151-1665129600-1665162000@nauka.czd.pl
SUMMARY:Konferencja „Osocze ratuje życie” w ramach X Międzynarodowego Tygodnia Świadomości o Osoczu
DESCRIPTION:Konferencja „Osocze ratuje życie” w ramach X Międzynarodowego Tygodnia Świadomości o Osoczu
URL:https://nauka.czd.pl/event/konferencja-osocze-ratuje-zycie-w-ramach-x-miedzynarodowego-tygodnia-swiadomosci-o-osoczu/
CATEGORIES:Events,PL
END:VEVENT
BEGIN:VEVENT
DTSTART;VALUE=DATE:20221021
DTEND;VALUE=DATE:20221022
DTSTAMP:20260424T051758
CREATED:20240122T133605Z
LAST-MODIFIED:20240122T133607Z
UID:12157-1666310400-1666396799@nauka.czd.pl
SUMMARY:Warsztaty dla lekarzy w trakcie specjalizacji z immunologii –„IEI na wesoło\, diagnostycznych puzzli koło”
DESCRIPTION:Warsztaty dla lekarzy w trakcie specjalizacji z immunologii –„IEI na wesoło\, diagnostycznych puzzli koło”
URL:https://nauka.czd.pl/event/warsztaty-dla-lekarzy-w-trakcie-specjalizacji-z-immunologii-iei-na-wesolo-diagnostycznych-puzzli-kolo/
CATEGORIES:Events,PL
END:VEVENT
BEGIN:VEVENT
DTSTART;TZID=Europe/Warsaw:20221021T080000
DTEND;TZID=Europe/Warsaw:20221021T170000
DTSTAMP:20260424T051758
CREATED:20240122T133104Z
LAST-MODIFIED:20240122T133323Z
UID:12154-1666339200-1666371600@nauka.czd.pl
SUMMARY:Ogólnopolska Konferencja naukowa „Zaburzenia karmienia i jedzenia - współczesne wyzwania diagnostyczno-terapeutyczne”
DESCRIPTION:Ogólnopolska Konferencja naukowa „Zaburzenia karmienia i jedzenia – współczesne wyzwania diagnostyczno-terapeutyczne”
URL:https://nauka.czd.pl/event/ogolnopolska-konferencja-naukowa-zaburzenia-karmienia-i-jedzenia-wspolczesne-wyzwania-diagnostyczno-terapeutyczne/
CATEGORIES:Events,PL
END:VEVENT
END:VCALENDAR