BEGIN:VCALENDAR
VERSION:2.0
PRODID:-//www.nauka.czd.pl - ECPv6.15.19//NONSGML v1.0//EN
CALSCALE:GREGORIAN
METHOD:PUBLISH
X-WR-CALNAME:www.nauka.czd.pl
X-ORIGINAL-URL:https://nauka.czd.pl
X-WR-CALDESC:Wydarzenia dla www.nauka.czd.pl
REFRESH-INTERVAL;VALUE=DURATION:PT1H
X-Robots-Tag:noindex
X-PUBLISHED-TTL:PT1H
BEGIN:VTIMEZONE
TZID:Europe/Warsaw
BEGIN:DAYLIGHT
TZOFFSETFROM:+0100
TZOFFSETTO:+0200
TZNAME:CEST
DTSTART:20210328T010000
END:DAYLIGHT
BEGIN:STANDARD
TZOFFSETFROM:+0200
TZOFFSETTO:+0100
TZNAME:CET
DTSTART:20211031T010000
END:STANDARD
BEGIN:DAYLIGHT
TZOFFSETFROM:+0100
TZOFFSETTO:+0200
TZNAME:CEST
DTSTART:20220327T010000
END:DAYLIGHT
BEGIN:STANDARD
TZOFFSETFROM:+0200
TZOFFSETTO:+0100
TZNAME:CET
DTSTART:20221030T010000
END:STANDARD
BEGIN:DAYLIGHT
TZOFFSETFROM:+0100
TZOFFSETTO:+0200
TZNAME:CEST
DTSTART:20230326T010000
END:DAYLIGHT
BEGIN:STANDARD
TZOFFSETFROM:+0200
TZOFFSETTO:+0100
TZNAME:CET
DTSTART:20231029T010000
END:STANDARD
END:VTIMEZONE
BEGIN:VEVENT
DTSTART;VALUE=DATE:20220603
DTEND;VALUE=DATE:20220604
DTSTAMP:20260424T103610
CREATED:20240122T132141Z
LAST-MODIFIED:20240122T132142Z
UID:12142-1654214400-1654300799@nauka.czd.pl
SUMMARY:Clinical and biochemical aspects of primary and secondary hyperammonemic disorders
DESCRIPTION:Międzynarodowa Konferencja dot. wrodzonych hiperamonemii pt. „Clinical and biochemical aspects of primary and secondary hyperammonemic disorders”
URL:https://nauka.czd.pl/event/clinical-and-biochemical-aspects-of-primary-and-secondary-hyperammonemic-disorders/
CATEGORIES:Events,PL
END:VEVENT
BEGIN:VEVENT
DTSTART;TZID=Europe/Warsaw:20220603T080000
DTEND;TZID=Europe/Warsaw:20220603T170000
DTSTAMP:20260424T103610
CREATED:20240122T132334Z
LAST-MODIFIED:20240122T132335Z
UID:12145-1654243200-1654275600@nauka.czd.pl
SUMMARY:Craniopharyngioma Meeting
DESCRIPTION:Craniopharyngioma Meeting
URL:https://nauka.czd.pl/event/craniopharyngioma-meeting/
CATEGORIES:Events,PL
END:VEVENT
BEGIN:VEVENT
DTSTART;TZID=Europe/Warsaw:20220614T100000
DTEND;TZID=Europe/Warsaw:20220614T170000
DTSTAMP:20260424T103610
CREATED:20220608T100156Z
LAST-MODIFIED:20220608T100413Z
UID:10489-1655200800-1655226000@nauka.czd.pl
SUMMARY:Seminarium pt. “Pacjent w badaniach klinicznych – rekrutacja\, świadoma zgoda”
DESCRIPTION:
URL:https://nauka.czd.pl/event/seminarium-pt-pacjent-w-badaniach-klinicznych-rekrutacja-swiadoma-zgoda/
CATEGORIES:Events,PL
END:VEVENT
END:VCALENDAR